BEGIN:VCALENDAR
VERSION:2.0
PRODID:-//Heimatverein - ECPv6.15.13//NONSGML v1.0//EN
CALSCALE:GREGORIAN
METHOD:PUBLISH
X-ORIGINAL-URL:https://heimatverein-wulfen.de/wp01
X-WR-CALDESC:Veranstaltungen für Heimatverein
REFRESH-INTERVAL;VALUE=DURATION:PT1H
X-Robots-Tag:noindex
X-PUBLISHED-TTL:PT1H
BEGIN:VTIMEZONE
TZID:Europe/Berlin
BEGIN:DAYLIGHT
TZOFFSETFROM:+0100
TZOFFSETTO:+0200
TZNAME:CEST
DTSTART:20220327T010000
END:DAYLIGHT
BEGIN:STANDARD
TZOFFSETFROM:+0200
TZOFFSETTO:+0100
TZNAME:CET
DTSTART:20221030T010000
END:STANDARD
BEGIN:DAYLIGHT
TZOFFSETFROM:+0100
TZOFFSETTO:+0200
TZNAME:CEST
DTSTART:20230326T010000
END:DAYLIGHT
BEGIN:STANDARD
TZOFFSETFROM:+0200
TZOFFSETTO:+0100
TZNAME:CET
DTSTART:20231029T010000
END:STANDARD
BEGIN:DAYLIGHT
TZOFFSETFROM:+0100
TZOFFSETTO:+0200
TZNAME:CEST
DTSTART:20240331T010000
END:DAYLIGHT
BEGIN:STANDARD
TZOFFSETFROM:+0200
TZOFFSETTO:+0100
TZNAME:CET
DTSTART:20241027T010000
END:STANDARD
END:VTIMEZONE
BEGIN:VEVENT
DTSTART;TZID=Europe/Berlin:20230419T143000
DTEND;TZID=Europe/Berlin:20230419T170000
DTSTAMP:20260420T082010
CREATED:20221116T160117Z
LAST-MODIFIED:20230425T074909Z
UID:9728-1681914600-1681923600@heimatverein-wulfen.de
SUMMARY:Spielenachmittag
DESCRIPTION:
URL:https://heimatverein-wulfen.de/wp01/termine/spielenachmittag-4/
LOCATION:Heimathaus\, Rhönweg 11\, Dorsten\, 46286 \, Deutschland
ATTACH;FMTTYPE=image/jpeg:https://heimatverein-wulfen.de/wp01/wp-content/uploads/2023/04/HVW_Spielenachmittage_Plakat_2023.jpg
END:VEVENT
END:VCALENDAR