BEGIN:VCALENDAR
VERSION:2.0
PRODID:-//Heimatverein - ECPv6.15.13//NONSGML v1.0//EN
CALSCALE:GREGORIAN
METHOD:PUBLISH
X-WR-CALNAME:Heimatverein
X-ORIGINAL-URL:https://heimatverein-wulfen.de/wp01
X-WR-CALDESC:Veranstaltungen für Heimatverein
REFRESH-INTERVAL;VALUE=DURATION:PT1H
X-Robots-Tag:noindex
X-PUBLISHED-TTL:PT1H
BEGIN:VTIMEZONE
TZID:Europe/Berlin
BEGIN:DAYLIGHT
TZOFFSETFROM:+0100
TZOFFSETTO:+0200
TZNAME:CEST
DTSTART:20220327T010000
END:DAYLIGHT
BEGIN:STANDARD
TZOFFSETFROM:+0200
TZOFFSETTO:+0100
TZNAME:CET
DTSTART:20221030T010000
END:STANDARD
BEGIN:DAYLIGHT
TZOFFSETFROM:+0100
TZOFFSETTO:+0200
TZNAME:CEST
DTSTART:20230326T010000
END:DAYLIGHT
BEGIN:STANDARD
TZOFFSETFROM:+0200
TZOFFSETTO:+0100
TZNAME:CET
DTSTART:20231029T010000
END:STANDARD
BEGIN:DAYLIGHT
TZOFFSETFROM:+0100
TZOFFSETTO:+0200
TZNAME:CEST
DTSTART:20240331T010000
END:DAYLIGHT
BEGIN:STANDARD
TZOFFSETFROM:+0200
TZOFFSETTO:+0100
TZNAME:CET
DTSTART:20241027T010000
END:STANDARD
END:VTIMEZONE
BEGIN:VEVENT
DTSTART;TZID=Europe/Berlin:20230730T103000
DTEND;TZID=Europe/Berlin:20230730T170000
DTSTAMP:20260420T044623
CREATED:20230705T073115Z
LAST-MODIFIED:20230705T073115Z
UID:10307-1690713000-1690736400@heimatverein-wulfen.de
SUMMARY:Feldgottesdienst auf dem Hof Schürmann\, Buchenhöfe 117
DESCRIPTION:Am Sonntag\, 30. Juli findet um 10.30 Uhr – auch bei schlechtem Wetter –  ein Feldgottesdienst der Kirchengemeinde St. Matthäus auf dem Hof von Hermann Schürmann statt. Nach der Hl. Messe veranstaltet der \nHeimatverein einen Frühschoppen mit gekühlten Getränken. Dazu werden Pommes/Currywurst u. Bratwurst im Brötchen angeboten. Die Küche kann also kalt bleiben. \n 
URL:https://heimatverein-wulfen.de/wp01/termine/feldgottesdienst-auf-dem-hof-schuermann-buchenhoefe-117/
END:VEVENT
END:VCALENDAR