BEGIN:VCALENDAR
VERSION:2.0
PRODID:-//Heimatverein - ECPv6.15.13//NONSGML v1.0//EN
CALSCALE:GREGORIAN
METHOD:PUBLISH
X-WR-CALNAME:Heimatverein
X-ORIGINAL-URL:https://heimatverein-wulfen.de/wp01
X-WR-CALDESC:Veranstaltungen für Heimatverein
REFRESH-INTERVAL;VALUE=DURATION:PT1H
X-Robots-Tag:noindex
X-PUBLISHED-TTL:PT1H
BEGIN:VTIMEZONE
TZID:Europe/Berlin
BEGIN:DAYLIGHT
TZOFFSETFROM:+0100
TZOFFSETTO:+0200
TZNAME:CEST
DTSTART:20220327T010000
END:DAYLIGHT
BEGIN:STANDARD
TZOFFSETFROM:+0200
TZOFFSETTO:+0100
TZNAME:CET
DTSTART:20221030T010000
END:STANDARD
BEGIN:DAYLIGHT
TZOFFSETFROM:+0100
TZOFFSETTO:+0200
TZNAME:CEST
DTSTART:20230326T010000
END:DAYLIGHT
BEGIN:STANDARD
TZOFFSETFROM:+0200
TZOFFSETTO:+0100
TZNAME:CET
DTSTART:20231029T010000
END:STANDARD
BEGIN:DAYLIGHT
TZOFFSETFROM:+0100
TZOFFSETTO:+0200
TZNAME:CEST
DTSTART:20240331T010000
END:DAYLIGHT
BEGIN:STANDARD
TZOFFSETFROM:+0200
TZOFFSETTO:+0100
TZNAME:CET
DTSTART:20241027T010000
END:STANDARD
END:VTIMEZONE
BEGIN:VEVENT
DTSTART;VALUE=DATE:20230818
DTEND;VALUE=DATE:20230821
DTSTAMP:20260420T013041
CREATED:20221117T135529Z
LAST-MODIFIED:20221117T135529Z
UID:9805-1692316800-1692575999@heimatverein-wulfen.de
SUMMARY:Dreitägige Fahrradtour nach Bocholt
DESCRIPTION:
URL:https://heimatverein-wulfen.de/wp01/termine/dreitaegige-fahrradtour-nach-bocholt/
LOCATION:Heimathaus\, Rhönweg 11\, Dorsten\, 46286 \, Deutschland
END:VEVENT
END:VCALENDAR