BEGIN:VCALENDAR
VERSION:2.0
PRODID:-//Heimatverein - ECPv6.15.13//NONSGML v1.0//EN
CALSCALE:GREGORIAN
METHOD:PUBLISH
X-WR-CALNAME:Heimatverein
X-ORIGINAL-URL:https://heimatverein-wulfen.de/wp01
X-WR-CALDESC:Veranstaltungen für Heimatverein
REFRESH-INTERVAL;VALUE=DURATION:PT1H
X-Robots-Tag:noindex
X-PUBLISHED-TTL:PT1H
BEGIN:VTIMEZONE
TZID:Europe/Berlin
BEGIN:DAYLIGHT
TZOFFSETFROM:+0100
TZOFFSETTO:+0200
TZNAME:CEST
DTSTART:20220327T010000
END:DAYLIGHT
BEGIN:STANDARD
TZOFFSETFROM:+0200
TZOFFSETTO:+0100
TZNAME:CET
DTSTART:20221030T010000
END:STANDARD
BEGIN:DAYLIGHT
TZOFFSETFROM:+0100
TZOFFSETTO:+0200
TZNAME:CEST
DTSTART:20230326T010000
END:DAYLIGHT
BEGIN:STANDARD
TZOFFSETFROM:+0200
TZOFFSETTO:+0100
TZNAME:CET
DTSTART:20231029T010000
END:STANDARD
BEGIN:DAYLIGHT
TZOFFSETFROM:+0100
TZOFFSETTO:+0200
TZNAME:CEST
DTSTART:20240331T010000
END:DAYLIGHT
BEGIN:STANDARD
TZOFFSETFROM:+0200
TZOFFSETTO:+0100
TZNAME:CET
DTSTART:20241027T010000
END:STANDARD
END:VTIMEZONE
BEGIN:VEVENT
DTSTART;TZID=Europe/Berlin:20230401T190000
DTEND;TZID=Europe/Berlin:20230401T190000
DTSTAMP:20260420T063838
CREATED:20221120T231947Z
LAST-MODIFIED:20221120T231947Z
UID:9842-1680375600-1680375600@heimatverein-wulfen.de
SUMMARY:Comedy "Der unglaubliche Heinz"\, Heinz Gröning
DESCRIPTION:
URL:https://heimatverein-wulfen.de/wp01/termine/comedy-der-unglaubliche-heinz-heinz-groening/
LOCATION:Heimathaus\, Rhönweg 11\, Dorsten\, 46286 \, Deutschland
END:VEVENT
BEGIN:VEVENT
DTSTART;TZID=Europe/Berlin:20230406T180000
DTEND;TZID=Europe/Berlin:20230406T220000
DTSTAMP:20260420T063838
CREATED:20221117T134359Z
LAST-MODIFIED:20221117T134359Z
UID:9794-1680804000-1680818400@heimatverein-wulfen.de
SUMMARY:Fastenessen
DESCRIPTION:
URL:https://heimatverein-wulfen.de/wp01/termine/fastenessen/
LOCATION:Heimathaus\, Rhönweg 11\, Dorsten\, 46286 \, Deutschland
END:VEVENT
BEGIN:VEVENT
DTSTART;TZID=Europe/Berlin:20230413T140000
DTEND;TZID=Europe/Berlin:20230413T140000
DTSTAMP:20260420T063838
CREATED:20230425T080321Z
LAST-MODIFIED:20230425T080537Z
UID:10205-1681394400-1681394400@heimatverein-wulfen.de
SUMMARY:Radfahrgruppe
DESCRIPTION:
URL:https://heimatverein-wulfen.de/wp01/termine/radfahrgruppe-2/
ATTACH;FMTTYPE=image/jpeg:https://heimatverein-wulfen.de/wp01/wp-content/uploads/2023/04/HVW_Radfahren_2023.jpg
END:VEVENT
BEGIN:VEVENT
DTSTART;TZID=Europe/Berlin:20230415T140000
DTEND;TZID=Europe/Berlin:20230415T140000
DTSTAMP:20260420T063838
CREATED:20230119T000954Z
LAST-MODIFIED:20230119T000954Z
UID:10061-1681567200-1681567200@heimatverein-wulfen.de
SUMMARY:Wollspinnen
DESCRIPTION:
URL:https://heimatverein-wulfen.de/wp01/termine/wollspinnen-9/
LOCATION:Heimathaus\, Rhönweg 11\, Dorsten\, 46286 \, Deutschland
ATTACH;FMTTYPE=image/jpeg:https://heimatverein-wulfen.de/wp01/wp-content/uploads/2023/01/Wollspinnen_Plakat_2023_700.jpg
END:VEVENT
BEGIN:VEVENT
DTSTART;TZID=Europe/Berlin:20230419T143000
DTEND;TZID=Europe/Berlin:20230419T170000
DTSTAMP:20260420T063838
CREATED:20221116T160117Z
LAST-MODIFIED:20230425T074909Z
UID:9728-1681914600-1681923600@heimatverein-wulfen.de
SUMMARY:Spielenachmittag
DESCRIPTION:
URL:https://heimatverein-wulfen.de/wp01/termine/spielenachmittag-4/
LOCATION:Heimathaus\, Rhönweg 11\, Dorsten\, 46286 \, Deutschland
ATTACH;FMTTYPE=image/jpeg:https://heimatverein-wulfen.de/wp01/wp-content/uploads/2023/04/HVW_Spielenachmittage_Plakat_2023.jpg
END:VEVENT
BEGIN:VEVENT
DTSTART;TZID=Europe/Berlin:20230420T140000
DTEND;TZID=Europe/Berlin:20230420T190000
DTSTAMP:20260420T063838
CREATED:20221115T232446Z
LAST-MODIFIED:20221115T232446Z
UID:9699-1681999200-1682017200@heimatverein-wulfen.de
SUMMARY:Preisskat
DESCRIPTION:
URL:https://heimatverein-wulfen.de/wp01/termine/preisskat-16/
LOCATION:Heimathaus\, Rhönweg 11\, Dorsten\, 46286 \, Deutschland
ATTACH;FMTTYPE=image/jpeg:https://heimatverein-wulfen.de/wp01/wp-content/uploads/2022/11/Plakat_2023_002.jpg
END:VEVENT
BEGIN:VEVENT
DTSTART;TZID=Europe/Berlin:20230427T140000
DTEND;TZID=Europe/Berlin:20230427T140000
DTSTAMP:20260420T063838
CREATED:20230425T080725Z
LAST-MODIFIED:20230425T080725Z
UID:10208-1682604000-1682604000@heimatverein-wulfen.de
SUMMARY:Radfahrgruppe
DESCRIPTION:
URL:https://heimatverein-wulfen.de/wp01/termine/radfahrgruppe-3/
ATTACH;FMTTYPE=image/jpeg:https://heimatverein-wulfen.de/wp01/wp-content/uploads/2023/04/HVW_Radfahren_2023.jpg
END:VEVENT
BEGIN:VEVENT
DTSTART;TZID=Europe/Berlin:20230430T180000
DTEND;TZID=Europe/Berlin:20230430T235900
DTSTAMP:20260420T063838
CREATED:20221117T134939Z
LAST-MODIFIED:20221117T134939Z
UID:9798-1682877600-1682899140@heimatverein-wulfen.de
SUMMARY:Maifest Wulfener Vereine
DESCRIPTION:
URL:https://heimatverein-wulfen.de/wp01/termine/maifest-wulfener-vereine/
LOCATION:Am Wappenbaum\, Hervesterstraße\, Dorsten\, 46286
END:VEVENT
END:VCALENDAR