BEGIN:VCALENDAR
VERSION:2.0
PRODID:-//Heimatverein - ECPv6.15.13//NONSGML v1.0//EN
CALSCALE:GREGORIAN
METHOD:PUBLISH
X-ORIGINAL-URL:https://heimatverein-wulfen.de/wp01
X-WR-CALDESC:Veranstaltungen für Heimatverein
REFRESH-INTERVAL;VALUE=DURATION:PT1H
X-Robots-Tag:noindex
X-PUBLISHED-TTL:PT1H
BEGIN:VTIMEZONE
TZID:Europe/Berlin
BEGIN:DAYLIGHT
TZOFFSETFROM:+0100
TZOFFSETTO:+0200
TZNAME:CEST
DTSTART:20220327T010000
END:DAYLIGHT
BEGIN:STANDARD
TZOFFSETFROM:+0200
TZOFFSETTO:+0100
TZNAME:CET
DTSTART:20221030T010000
END:STANDARD
BEGIN:DAYLIGHT
TZOFFSETFROM:+0100
TZOFFSETTO:+0200
TZNAME:CEST
DTSTART:20230326T010000
END:DAYLIGHT
BEGIN:STANDARD
TZOFFSETFROM:+0200
TZOFFSETTO:+0100
TZNAME:CET
DTSTART:20231029T010000
END:STANDARD
BEGIN:DAYLIGHT
TZOFFSETFROM:+0100
TZOFFSETTO:+0200
TZNAME:CEST
DTSTART:20240331T010000
END:DAYLIGHT
BEGIN:STANDARD
TZOFFSETFROM:+0200
TZOFFSETTO:+0100
TZNAME:CET
DTSTART:20241027T010000
END:STANDARD
END:VTIMEZONE
BEGIN:VEVENT
DTSTART;TZID=Europe/Berlin:20230511T140000
DTEND;TZID=Europe/Berlin:20230511T140000
DTSTAMP:20260420T050844
CREATED:20230425T080905Z
LAST-MODIFIED:20230425T080905Z
UID:10210-1683813600-1683813600@heimatverein-wulfen.de
SUMMARY:Radfahrgruppe
DESCRIPTION:
URL:https://heimatverein-wulfen.de/wp01/termine/radfahrgruppe-4/
ATTACH;FMTTYPE=image/jpeg:https://heimatverein-wulfen.de/wp01/wp-content/uploads/2023/04/HVW_Radfahren_2023.jpg
END:VEVENT
BEGIN:VEVENT
DTSTART;TZID=Europe/Berlin:20230513T140000
DTEND;TZID=Europe/Berlin:20230513T140000
DTSTAMP:20260420T050844
CREATED:20230119T001628Z
LAST-MODIFIED:20230119T001628Z
UID:10063-1683986400-1683986400@heimatverein-wulfen.de
SUMMARY:Wollspinnen
DESCRIPTION:
URL:https://heimatverein-wulfen.de/wp01/termine/wollspinnen-10/
LOCATION:Heimathaus\, Rhönweg 11\, Dorsten\, 46286 \, Deutschland
ATTACH;FMTTYPE=image/jpeg:https://heimatverein-wulfen.de/wp01/wp-content/uploads/2023/01/Wollspinnen_Plakat_2023_700.jpg
END:VEVENT
BEGIN:VEVENT
DTSTART;TZID=Europe/Berlin:20230517T143000
DTEND;TZID=Europe/Berlin:20230517T170000
DTSTAMP:20260420T050844
CREATED:20221116T160326Z
LAST-MODIFIED:20230425T074653Z
UID:9730-1684333800-1684342800@heimatverein-wulfen.de
SUMMARY:Spielenachmittag
DESCRIPTION:
URL:https://heimatverein-wulfen.de/wp01/termine/spielenachmittag-5/
LOCATION:Heimathaus\, Rhönweg 11\, Dorsten\, 46286 \, Deutschland
ATTACH;FMTTYPE=image/jpeg:https://heimatverein-wulfen.de/wp01/wp-content/uploads/2023/04/HVW_Spielenachmittage_Plakat_2023.jpg
END:VEVENT
BEGIN:VEVENT
DTSTART;VALUE=DATE:20230518
DTEND;VALUE=DATE:20230519
DTSTAMP:20260420T050844
CREATED:20221115T232546Z
LAST-MODIFIED:20221115T232546Z
UID:9701-1684368000-1684454399@heimatverein-wulfen.de
SUMMARY:Preisskat fällt aus
DESCRIPTION:
URL:https://heimatverein-wulfen.de/wp01/termine/preisskat-faellt-aus/
ATTACH;FMTTYPE=image/jpeg:https://heimatverein-wulfen.de/wp01/wp-content/uploads/2022/11/Plakat_2023_002.jpg
END:VEVENT
BEGIN:VEVENT
DTSTART;TZID=Europe/Berlin:20230525T140000
DTEND;TZID=Europe/Berlin:20230525T140000
DTSTAMP:20260420T050844
CREATED:20230425T081004Z
LAST-MODIFIED:20230425T081004Z
UID:10212-1685023200-1685023200@heimatverein-wulfen.de
SUMMARY:Radfahrgruppe
DESCRIPTION:
URL:https://heimatverein-wulfen.de/wp01/termine/radfahrgruppe-5/
ATTACH;FMTTYPE=image/jpeg:https://heimatverein-wulfen.de/wp01/wp-content/uploads/2023/04/HVW_Radfahren_2023.jpg
END:VEVENT
END:VCALENDAR