BEGIN:VCALENDAR
VERSION:2.0
PRODID:-//Heimatverein - ECPv6.15.13//NONSGML v1.0//EN
CALSCALE:GREGORIAN
METHOD:PUBLISH
X-WR-CALNAME:Heimatverein
X-ORIGINAL-URL:https://heimatverein-wulfen.de/wp01
X-WR-CALDESC:Veranstaltungen für Heimatverein
REFRESH-INTERVAL;VALUE=DURATION:PT1H
X-Robots-Tag:noindex
X-PUBLISHED-TTL:PT1H
BEGIN:VTIMEZONE
TZID:Europe/Berlin
BEGIN:DAYLIGHT
TZOFFSETFROM:+0100
TZOFFSETTO:+0200
TZNAME:CEST
DTSTART:20220327T010000
END:DAYLIGHT
BEGIN:STANDARD
TZOFFSETFROM:+0200
TZOFFSETTO:+0100
TZNAME:CET
DTSTART:20221030T010000
END:STANDARD
BEGIN:DAYLIGHT
TZOFFSETFROM:+0100
TZOFFSETTO:+0200
TZNAME:CEST
DTSTART:20230326T010000
END:DAYLIGHT
BEGIN:STANDARD
TZOFFSETFROM:+0200
TZOFFSETTO:+0100
TZNAME:CET
DTSTART:20231029T010000
END:STANDARD
BEGIN:DAYLIGHT
TZOFFSETFROM:+0100
TZOFFSETTO:+0200
TZNAME:CEST
DTSTART:20240331T010000
END:DAYLIGHT
BEGIN:STANDARD
TZOFFSETFROM:+0200
TZOFFSETTO:+0100
TZNAME:CET
DTSTART:20241027T010000
END:STANDARD
END:VTIMEZONE
BEGIN:VEVENT
DTSTART;TZID=Europe/Berlin:20230602T190000
DTEND;TZID=Europe/Berlin:20230602T190000
DTSTAMP:20260420T032845
CREATED:20221117T155036Z
LAST-MODIFIED:20221117T155041Z
UID:9831-1685732400-1685732400@heimatverein-wulfen.de
SUMMARY:Jahreshauptversammlung
DESCRIPTION:
URL:https://heimatverein-wulfen.de/wp01/termine/jahreshauptversammlung-3/
LOCATION:Heimathaus\, Rhönweg 11\, Dorsten\, 46286 \, Deutschland
END:VEVENT
BEGIN:VEVENT
DTSTART;TZID=Europe/Berlin:20230608T140000
DTEND;TZID=Europe/Berlin:20230608T140000
DTSTAMP:20260420T032845
CREATED:20230425T081139Z
LAST-MODIFIED:20230425T081139Z
UID:10214-1686232800-1686232800@heimatverein-wulfen.de
SUMMARY:Radfahrgruppe
DESCRIPTION:
URL:https://heimatverein-wulfen.de/wp01/termine/radfahrgruppe-6/
ATTACH;FMTTYPE=image/jpeg:https://heimatverein-wulfen.de/wp01/wp-content/uploads/2023/04/HVW_Radfahren_2023.jpg
END:VEVENT
BEGIN:VEVENT
DTSTART;TZID=Europe/Berlin:20230615T140000
DTEND;TZID=Europe/Berlin:20230615T190000
DTSTAMP:20260420T032845
CREATED:20221115T232650Z
LAST-MODIFIED:20221115T232650Z
UID:9703-1686837600-1686855600@heimatverein-wulfen.de
SUMMARY:Preisskat
DESCRIPTION:
URL:https://heimatverein-wulfen.de/wp01/termine/preisskat-17/
LOCATION:Heimathaus\, Rhönweg 11\, Dorsten\, 46286 \, Deutschland
ATTACH;FMTTYPE=image/jpeg:https://heimatverein-wulfen.de/wp01/wp-content/uploads/2022/11/Plakat_2023_002.jpg
END:VEVENT
BEGIN:VEVENT
DTSTART;TZID=Europe/Berlin:20230617T140000
DTEND;TZID=Europe/Berlin:20230617T140000
DTSTAMP:20260420T032845
CREATED:20230119T001858Z
LAST-MODIFIED:20230119T001858Z
UID:10066-1687010400-1687010400@heimatverein-wulfen.de
SUMMARY:Wollspinnen
DESCRIPTION:
URL:https://heimatverein-wulfen.de/wp01/termine/wollspinnen-11/
LOCATION:Heimathaus\, Rhönweg 11\, Dorsten\, 46286 \, Deutschland
ATTACH;FMTTYPE=image/jpeg:https://heimatverein-wulfen.de/wp01/wp-content/uploads/2023/01/Wollspinnen_Plakat_2023_700.jpg
END:VEVENT
BEGIN:VEVENT
DTSTART;TZID=Europe/Berlin:20230621T143000
DTEND;TZID=Europe/Berlin:20230621T170000
DTSTAMP:20260420T032845
CREATED:20221116T160427Z
LAST-MODIFIED:20230619T184130Z
UID:9732-1687357800-1687366800@heimatverein-wulfen.de
SUMMARY:Spielenachmittag
DESCRIPTION:Der Wulfener Heimatverein lädt zum nächste Spielenachmittag für Mitglieder und Nichtmitglieder herzlich ein. \nAm Mittwoch\, den 21. Juni findet ab 14.30 Uhr im Heimathaus Wulfen\, Rhönweg 11\, ein weiterer Spielenachmittag des Heimatvereines Wulfen statt. Dieser Nachmittag hat sich mittlerweile zu einer Erfolgsgeschichte entwickelt und wird stets gut angenommen. Gerne können aber noch weitere Gäste dazu kommen und ein paar gemütliche Stunden in geselliger Runde verbringen. \nDie Spiele sollen bitte selber mitgebracht werden. Dafür sorgt der Heimatverein für das leibliche Wohl. Es werden ausreichend Kaffee und Plätzchen angeboten. \nQuelle und Foto: Bludau
URL:https://heimatverein-wulfen.de/wp01/termine/spielenachmittag-6/
LOCATION:Heimathaus\, Rhönweg 11\, Dorsten\, 46286 \, Deutschland
ATTACH;FMTTYPE=image/jpeg:https://heimatverein-wulfen.de/wp01/wp-content/uploads/2023/04/HVW_Spielenachmittage_Plakat_2023.jpg
END:VEVENT
BEGIN:VEVENT
DTSTART;TZID=Europe/Berlin:20230622T140000
DTEND;TZID=Europe/Berlin:20230622T140000
DTSTAMP:20260420T032845
CREATED:20230425T081230Z
LAST-MODIFIED:20230425T081230Z
UID:10216-1687442400-1687442400@heimatverein-wulfen.de
SUMMARY:Radfahrgruppe
DESCRIPTION:
URL:https://heimatverein-wulfen.de/wp01/termine/radfahrgruppe-7/
ATTACH;FMTTYPE=image/jpeg:https://heimatverein-wulfen.de/wp01/wp-content/uploads/2023/04/HVW_Radfahren_2023.jpg
END:VEVENT
BEGIN:VEVENT
DTSTART;VALUE=DATE:20230623
DTEND;VALUE=DATE:20230626
DTSTAMP:20260420T032845
CREATED:20221119T121453Z
LAST-MODIFIED:20221119T121453Z
UID:9835-1687478400-1687737599@heimatverein-wulfen.de
SUMMARY:Schützenfest in Wulfen
DESCRIPTION:
URL:https://heimatverein-wulfen.de/wp01/termine/schuetzenfest-in-wulfen-2/
LOCATION:Festplatz des Allgemeinen Bürgerschützenverein Wulfen e.V.
END:VEVENT
END:VCALENDAR