BEGIN:VCALENDAR
VERSION:2.0
PRODID:-//Heimatverein - ECPv6.15.13//NONSGML v1.0//EN
CALSCALE:GREGORIAN
METHOD:PUBLISH
X-ORIGINAL-URL:https://heimatverein-wulfen.de/wp01
X-WR-CALDESC:Veranstaltungen für Heimatverein
REFRESH-INTERVAL;VALUE=DURATION:PT1H
X-Robots-Tag:noindex
X-PUBLISHED-TTL:PT1H
BEGIN:VTIMEZONE
TZID:Europe/Berlin
BEGIN:DAYLIGHT
TZOFFSETFROM:+0100
TZOFFSETTO:+0200
TZNAME:CEST
DTSTART:20220327T010000
END:DAYLIGHT
BEGIN:STANDARD
TZOFFSETFROM:+0200
TZOFFSETTO:+0100
TZNAME:CET
DTSTART:20221030T010000
END:STANDARD
BEGIN:DAYLIGHT
TZOFFSETFROM:+0100
TZOFFSETTO:+0200
TZNAME:CEST
DTSTART:20230326T010000
END:DAYLIGHT
BEGIN:STANDARD
TZOFFSETFROM:+0200
TZOFFSETTO:+0100
TZNAME:CET
DTSTART:20231029T010000
END:STANDARD
BEGIN:DAYLIGHT
TZOFFSETFROM:+0100
TZOFFSETTO:+0200
TZNAME:CEST
DTSTART:20240331T010000
END:DAYLIGHT
BEGIN:STANDARD
TZOFFSETFROM:+0200
TZOFFSETTO:+0100
TZNAME:CET
DTSTART:20241027T010000
END:STANDARD
END:VTIMEZONE
BEGIN:VEVENT
DTSTART;TZID=Europe/Berlin:20231001T160000
DTEND;TZID=Europe/Berlin:20231001T160000
DTSTAMP:20260419T192259
CREATED:20221117T153031Z
LAST-MODIFIED:20221117T153031Z
UID:9817-1696176000-1696176000@heimatverein-wulfen.de
SUMMARY:Kaffee und Kuchen anschließend Theateraufführung
DESCRIPTION:
URL:https://heimatverein-wulfen.de/wp01/termine/kaffee-und-kuchen-anschliessend-theaterauffuehrung-2/
END:VEVENT
BEGIN:VEVENT
DTSTART;TZID=Europe/Berlin:20231012T140000
DTEND;TZID=Europe/Berlin:20231012T140000
DTSTAMP:20260419T192259
CREATED:20230425T082032Z
LAST-MODIFIED:20230425T082032Z
UID:10232-1697119200-1697119200@heimatverein-wulfen.de
SUMMARY:Radfahrgruppe
DESCRIPTION:
URL:https://heimatverein-wulfen.de/wp01/termine/radfahrgruppe-15/
ATTACH;FMTTYPE=image/jpeg:https://heimatverein-wulfen.de/wp01/wp-content/uploads/2023/04/HVW_Radfahren_2023.jpg
END:VEVENT
BEGIN:VEVENT
DTSTART;VALUE=DATE:20231015
DTEND;VALUE=DATE:20231016
DTSTAMP:20260419T192259
CREATED:20221117T153130Z
LAST-MODIFIED:20221117T153130Z
UID:9819-1697328000-1697414399@heimatverein-wulfen.de
SUMMARY:Teilnahme am Kiepenkerltag 2023 in Stadtlohn
DESCRIPTION:
URL:https://heimatverein-wulfen.de/wp01/termine/teilnahme-am-kiepenkerltag-2023-in-stadtlohn/
END:VEVENT
BEGIN:VEVENT
DTSTART;TZID=Europe/Berlin:20231019T140000
DTEND;TZID=Europe/Berlin:20231019T190000
DTSTAMP:20260419T192259
CREATED:20221115T233145Z
LAST-MODIFIED:20221115T233145Z
UID:9711-1697724000-1697742000@heimatverein-wulfen.de
SUMMARY:Preisskat
DESCRIPTION:
URL:https://heimatverein-wulfen.de/wp01/termine/preisskat-21/
LOCATION:Heimathaus\, Rhönweg 11\, Dorsten\, 46286 \, Deutschland
ATTACH;FMTTYPE=image/jpeg:https://heimatverein-wulfen.de/wp01/wp-content/uploads/2022/11/Plakat_2023_002.jpg
END:VEVENT
BEGIN:VEVENT
DTSTART;TZID=Europe/Berlin:20231021T180000
DTEND;TZID=Europe/Berlin:20231021T180000
DTSTAMP:20260419T192259
CREATED:20221117T153303Z
LAST-MODIFIED:20221117T153303Z
UID:9821-1697911200-1697911200@heimatverein-wulfen.de
SUMMARY:Oktoberfest mit der Braugruppe
DESCRIPTION:
URL:https://heimatverein-wulfen.de/wp01/termine/oktoberfest-mit-der-braugruppe/
LOCATION:Flachsrösthaus\, Rhönweg 
END:VEVENT
BEGIN:VEVENT
DTSTART;TZID=Europe/Berlin:20231026T140000
DTEND;TZID=Europe/Berlin:20231026T140000
DTSTAMP:20260419T192259
CREATED:20230425T082133Z
LAST-MODIFIED:20230425T082133Z
UID:10234-1698328800-1698328800@heimatverein-wulfen.de
SUMMARY:Radfahrgruppe
DESCRIPTION:
URL:https://heimatverein-wulfen.de/wp01/termine/radfahrgruppe-16/
ATTACH;FMTTYPE=image/jpeg:https://heimatverein-wulfen.de/wp01/wp-content/uploads/2023/04/HVW_Radfahren_2023.jpg
END:VEVENT
BEGIN:VEVENT
DTSTART;TZID=Europe/Berlin:20231028T140000
DTEND;TZID=Europe/Berlin:20231028T140000
DTSTAMP:20260419T192259
CREATED:20230119T002416Z
LAST-MODIFIED:20230119T002416Z
UID:10075-1698501600-1698501600@heimatverein-wulfen.de
SUMMARY:Wollspinnen
DESCRIPTION:
URL:https://heimatverein-wulfen.de/wp01/termine/wollspinnen-15/
LOCATION:Heimathaus\, Rhönweg 11\, Dorsten\, 46286 \, Deutschland
ATTACH;FMTTYPE=image/jpeg:https://heimatverein-wulfen.de/wp01/wp-content/uploads/2023/01/Wollspinnen_Plakat_2023_700.jpg
END:VEVENT
END:VCALENDAR