BEGIN:VCALENDAR
VERSION:2.0
PRODID:-//Heimatverein - ECPv6.15.13//NONSGML v1.0//EN
CALSCALE:GREGORIAN
METHOD:PUBLISH
X-ORIGINAL-URL:https://heimatverein-wulfen.de/wp01
X-WR-CALDESC:Veranstaltungen für Heimatverein
REFRESH-INTERVAL;VALUE=DURATION:PT1H
X-Robots-Tag:noindex
X-PUBLISHED-TTL:PT1H
BEGIN:VTIMEZONE
TZID:Europe/Berlin
BEGIN:DAYLIGHT
TZOFFSETFROM:+0100
TZOFFSETTO:+0200
TZNAME:CEST
DTSTART:20220327T010000
END:DAYLIGHT
BEGIN:STANDARD
TZOFFSETFROM:+0200
TZOFFSETTO:+0100
TZNAME:CET
DTSTART:20221030T010000
END:STANDARD
BEGIN:DAYLIGHT
TZOFFSETFROM:+0100
TZOFFSETTO:+0200
TZNAME:CEST
DTSTART:20230326T010000
END:DAYLIGHT
BEGIN:STANDARD
TZOFFSETFROM:+0200
TZOFFSETTO:+0100
TZNAME:CET
DTSTART:20231029T010000
END:STANDARD
BEGIN:DAYLIGHT
TZOFFSETFROM:+0100
TZOFFSETTO:+0200
TZNAME:CEST
DTSTART:20240331T010000
END:DAYLIGHT
BEGIN:STANDARD
TZOFFSETFROM:+0200
TZOFFSETTO:+0100
TZNAME:CET
DTSTART:20241027T010000
END:STANDARD
END:VTIMEZONE
BEGIN:VEVENT
DTSTART;TZID=Europe/Berlin:20231104T180000
DTEND;TZID=Europe/Berlin:20231104T180000
DTSTAMP:20260419T174031
CREATED:20221117T153528Z
LAST-MODIFIED:20231020T085457Z
UID:9823-1699120800-1699120800@heimatverein-wulfen.de
SUMMARY:Veranstaltung Brot-Tied-Gruppe Köstlichkeiten aus der Backstube
DESCRIPTION:
URL:https://heimatverein-wulfen.de/wp01/termine/italienischer-abend-mit-pizza-flamm-und-zwiebelkuchen-federweisser/
LOCATION:Heimathaus\, Rhönweg 11\, Dorsten\, 46286 \, Deutschland
END:VEVENT
BEGIN:VEVENT
DTSTART;TZID=Europe/Berlin:20231116T140000
DTEND;TZID=Europe/Berlin:20231116T190000
DTSTAMP:20260419T174031
CREATED:20221115T233443Z
LAST-MODIFIED:20221115T233443Z
UID:9715-1700143200-1700161200@heimatverein-wulfen.de
SUMMARY:Preisskat
DESCRIPTION:
URL:https://heimatverein-wulfen.de/wp01/termine/preisskat-22/
LOCATION:Heimathaus\, Rhönweg 11\, Dorsten\, 46286 \, Deutschland
ATTACH;FMTTYPE=image/jpeg:https://heimatverein-wulfen.de/wp01/wp-content/uploads/2022/11/Plakat_2023_002.jpg
END:VEVENT
BEGIN:VEVENT
DTSTART;TZID=Europe/Berlin:20231116T143000
DTEND;TZID=Europe/Berlin:20231116T143000
DTSTAMP:20260419T174031
CREATED:20221117T153729Z
LAST-MODIFIED:20221117T153836Z
UID:9825-1700145000-1700145000@heimatverein-wulfen.de
SUMMARY:Gemütliches Beisammensein bei Kaffee u. Kuchen
DESCRIPTION:
URL:https://heimatverein-wulfen.de/wp01/termine/gemuetliches-beisammensein-bei-kaffee-u-kuchen/
END:VEVENT
BEGIN:VEVENT
DTSTART;TZID=Europe/Berlin:20231118T140000
DTEND;TZID=Europe/Berlin:20231118T140000
DTSTAMP:20260419T174031
CREATED:20230119T002534Z
LAST-MODIFIED:20230119T002534Z
UID:10077-1700316000-1700316000@heimatverein-wulfen.de
SUMMARY:Wollspinnen
DESCRIPTION:
URL:https://heimatverein-wulfen.de/wp01/termine/wollspinnen-16/
LOCATION:Heimathaus\, Rhönweg 11\, Dorsten\, 46286 \, Deutschland
ATTACH;FMTTYPE=image/jpeg:https://heimatverein-wulfen.de/wp01/wp-content/uploads/2023/01/Wollspinnen_Plakat_2023_700.jpg
END:VEVENT
BEGIN:VEVENT
DTSTART;TZID=Europe/Berlin:20231119T103000
DTEND;TZID=Europe/Berlin:20231119T103000
DTSTAMP:20260419T174031
CREATED:20221117T154121Z
LAST-MODIFIED:20221117T154121Z
UID:9827-1700389800-1700389800@heimatverein-wulfen.de
SUMMARY:Teilnahme an der Veranstaltung zum Volkstrauertag
DESCRIPTION:
URL:https://heimatverein-wulfen.de/wp01/termine/teilnahme-an-der-veranstaltung-zum-volkstrauertag-3/
LOCATION:Wulfener Ehrenmal\, Wulfener Ehrenmal\, Dorsten\, 46286 
END:VEVENT
END:VCALENDAR